BEGIN:VCALENDAR
VERSION:2.0
PRODID:-//Jornada de Procedimientos de Insolvencia en Toledo - ECPv5.14.1//NONSGML v1.0//EN
CALSCALE:GREGORIAN
METHOD:PUBLISH
X-WR-CALNAME:Jornada de Procedimientos de Insolvencia en Toledo
X-ORIGINAL-URL:http://jornadadeinsolvenciaysocietario.com
X-WR-CALDESC:Events for Jornada de Procedimientos de Insolvencia en Toledo
REFRESH-INTERVAL;VALUE=DURATION:PT1H
X-Robots-Tag:noindex
X-PUBLISHED-TTL:PT1H
BEGIN:VTIMEZONE
TZID:Europe/Madrid
BEGIN:DAYLIGHT
TZOFFSETFROM:+0100
TZOFFSETTO:+0200
TZNAME:CEST
DTSTART:20220327T010000
END:DAYLIGHT
BEGIN:STANDARD
TZOFFSETFROM:+0200
TZOFFSETTO:+0100
TZNAME:CET
DTSTART:20221030T010000
END:STANDARD
BEGIN:DAYLIGHT
TZOFFSETFROM:+0100
TZOFFSETTO:+0200
TZNAME:CEST
DTSTART:20230326T010000
END:DAYLIGHT
BEGIN:STANDARD
TZOFFSETFROM:+0200
TZOFFSETTO:+0100
TZNAME:CET
DTSTART:20231029T010000
END:STANDARD
BEGIN:DAYLIGHT
TZOFFSETFROM:+0100
TZOFFSETTO:+0200
TZNAME:CEST
DTSTART:20240331T010000
END:DAYLIGHT
BEGIN:STANDARD
TZOFFSETFROM:+0200
TZOFFSETTO:+0100
TZNAME:CET
DTSTART:20241027T010000
END:STANDARD
BEGIN:DAYLIGHT
TZOFFSETFROM:+0100
TZOFFSETTO:+0200
TZNAME:CEST
DTSTART:20250330T010000
END:DAYLIGHT
BEGIN:STANDARD
TZOFFSETFROM:+0200
TZOFFSETTO:+0100
TZNAME:CET
DTSTART:20251026T010000
END:STANDARD
END:VTIMEZONE
BEGIN:VEVENT
DTSTART;VALUE=DATE:20251121
DTEND;VALUE=DATE:20251122
DTSTAMP:20260419T205342
CREATED:20251017T093247Z
LAST-MODIFIED:20251017T120402Z
UID:2709-1763683200-1763769599@jornadadeinsolvenciaysocietario.com
SUMMARY:Evento Presencial 2025
DESCRIPTION:En la edición 2025 de la Jornada de Procedimientos de Insolvencia y Societario\, destacados magistrados y especialistas en derecho mercantil y concursal se darán cita para analizar los retos actuales del sistema de insolvencia y las últimas tendencias jurisprudenciales. \nA lo largo del encuentro\, se abordarán cuestiones clave como el papel del prepack y la venta de la unidad productiva como instrumentos para la continuidad empresarial\, los límites y efectos de la exoneración del pasivo insatisfecho\, el tratamiento del crédito público\, y las novedades en los planes de reestructuración. \nTambién se profundizará en figuras especialmente controvertidas como el concurso sin masa y el procedimiento especial de microempresas\, ofreciendo una visión práctica\, crítica y actualizada del marco concursal. Una jornada imprescindible para profesionales del derecho\, la judicatura y la empresa que buscan anticiparse a los desafíos de 2025.
URL:http://jornadadeinsolvenciaysocietario.com/evento/evento-presencial-2025/
LOCATION:Vivero de Empresas\, C/ Dinamarca\, 4\, Toledo\, Toledo\, 45005\, España
ATTACH;FMTTYPE=image/jpeg:http://jornadadeinsolvenciaysocietario.com/wp-content/uploads/2025/10/Procedimientos-de-Insolvencia-2025-Evento.jpg
ORGANIZER;CN="C%C3%A1mara%20de%20Comercio%20de%20Toledo":MAILTO:info@jornadadeinsolvenciaysocietario.com
END:VEVENT
BEGIN:VEVENT
DTSTART;VALUE=DATE:20241108
DTEND;VALUE=DATE:20241109
DTSTAMP:20260419T205342
CREATED:20240924T084007Z
LAST-MODIFIED:20240926T064541Z
UID:2428-1731024000-1731110399@jornadadeinsolvenciaysocietario.com
SUMMARY:Evento Presencial 2024
DESCRIPTION:En esta jornada\, expertos en procedimientos de insolvencia y derecho societario\, junto con jueces especialistas en derecho mercantil y concursal\, se reunirán para analizar las cuestiones y controversias que surgen en estos ámbitos a la luz de la jurisprudencia más reciente. Durante el evento\, se abordarán temas clave como la exoneración del pasivo insatisfecho y el concurso sin masa\, el procedimiento especial de microempresas\, la venta de la unidad productiva y el pre-Pack o los planes de reestructuración. Los ponentes profundizarán en estos temas\, proporcionando una perspectiva enriquecedora y actualizada.
URL:http://jornadadeinsolvenciaysocietario.com/evento/evento-presencial-2024/
LOCATION:Vivero de Empresas\, C/ Dinamarca\, 4\, Toledo\, Toledo\, 45005\, España
ATTACH;FMTTYPE=image/png:http://jornadadeinsolvenciaysocietario.com/wp-content/uploads/2024/09/Recurso-2.png
ORGANIZER;CN="C%C3%A1mara%20de%20Comercio%20de%20Toledo":MAILTO:info@jornadadeinsolvenciaysocietario.com
END:VEVENT
BEGIN:VEVENT
DTSTART;TZID=Europe/Madrid:20231117T090000
DTEND;TZID=Europe/Madrid:20231117T160000
DTSTAMP:20260419T205342
CREATED:20231009T125624Z
LAST-MODIFIED:20231011T082449Z
UID:2150-1700211600-1700236800@jornadadeinsolvenciaysocietario.com
SUMMARY:Evento Presencial 2023
DESCRIPTION:En esta jornada\, expertos en procedimientos de insolvencia y derecho societario\, junto con jueces especialistas en derecho mercantil y concursal\, se reunirán para analizar las cuestiones y controversias que surgen en estos ámbitos a la luz de la jurisprudencia más reciente. Durante el evento\, se abordarán temas clave como el procedimiento especial para microempresas y el concurso sin masa\, el crédito no exonerable\, la liquidación concursal y los planes de reestructuración. Los ponentes profundizarán en estos temas\, proporcionando una perspectiva enriquecedora y actualizada.
URL:http://jornadadeinsolvenciaysocietario.com/evento/evento-presencial-2023/
LOCATION:Vivero de Empresas\, C/ Dinamarca\, 4\, Toledo\, Toledo\, 45005\, España
ATTACH;FMTTYPE=image/jpeg:http://jornadadeinsolvenciaysocietario.com/wp-content/uploads/2023/10/Procedimientos-de-Insolvencia-2023-Evento-Presencial.jpg
ORGANIZER;CN="C%C3%A1mara%20de%20Comercio%20de%20Toledo":MAILTO:info@jornadadeinsolvenciaysocietario.com
END:VEVENT
BEGIN:VEVENT
DTSTART;TZID=Europe/Madrid:20220506T090000
DTEND;TZID=Europe/Madrid:20220506T183000
DTSTAMP:20260419T205342
CREATED:20220325T135736Z
LAST-MODIFIED:20231009T125047Z
UID:1237-1651827600-1651861800@jornadadeinsolvenciaysocietario.com
SUMMARY:Evento en Directo 2022
DESCRIPTION:Accede a tu cuenta\npara entrar en el evento
URL:http://jornadadeinsolvenciaysocietario.com/evento/evento-en-directo-2022/
LOCATION:http://jornadadeinsolvenciaysocietario.com/evento/evento-en-directo-2022/
ORGANIZER;CN="C%C3%A1mara%20de%20Comercio%20de%20Toledo":MAILTO:info@jornadadeinsolvenciaysocietario.com
END:VEVENT
BEGIN:VEVENT
DTSTART;TZID=Europe/Madrid:20220506T090000
DTEND;TZID=Europe/Madrid:20220506T183000
DTSTAMP:20260419T205342
CREATED:20220323T083143Z
LAST-MODIFIED:20231009T125156Z
UID:825-1651827600-1651861800@jornadadeinsolvenciaysocietario.com
SUMMARY:Evento Online 2022
DESCRIPTION:El evento se retransmitirá en directo únicamente a través de nuestra web en el siguiente enlace:\nVer Evento \nPara poder visualizarlo\, no es necesario instalar ninguna aplicación\, tanto sólo debe comprar un ticket y registrase con su usuario y contraseña.\nRecibirá un correo electrónico de recordatorio\, incluido un enlace para unirse antes del evento.
URL:http://jornadadeinsolvenciaysocietario.com/evento/evento-online-2022/
LOCATION:Salón de Actos\, C/ Alfileritos\, 2\, Toledo\, Toledo\, 45003\, España
ATTACH;FMTTYPE=image/jpeg:http://jornadadeinsolvenciaysocietario.com/wp-content/uploads/2022/03/Procedimientos-de-Insolvencia-2022-Evento-Online.jpg
ORGANIZER;CN="C%C3%A1mara%20de%20Comercio%20de%20Toledo":MAILTO:info@jornadadeinsolvenciaysocietario.com
END:VEVENT
BEGIN:VEVENT
DTSTART;TZID=Europe/Madrid:20220506T090000
DTEND;TZID=Europe/Madrid:20220506T183000
DTSTAMP:20260419T205342
CREATED:20220317T104037Z
LAST-MODIFIED:20231009T122757Z
UID:18-1651827600-1651861800@jornadadeinsolvenciaysocietario.com
SUMMARY:Evento Presencial 2022
DESCRIPTION:
URL:http://jornadadeinsolvenciaysocietario.com/evento/evento-presencial-2022/
LOCATION:Salón de Actos\, C/ Alfileritos\, 2\, Toledo\, Toledo\, 45003\, España
ATTACH;FMTTYPE=image/jpeg:http://jornadadeinsolvenciaysocietario.com/wp-content/uploads/2022/03/Procedimientos-de-Insolvencia-2022-Evento-Presencial.jpg
ORGANIZER;CN="C%C3%A1mara%20de%20Comercio%20de%20Toledo":MAILTO:info@jornadadeinsolvenciaysocietario.com
END:VEVENT
END:VCALENDAR